BEGIN:VCALENDAR
VERSION:2.0
PRODID:-//AAUW Lubbock Betty Anderson Branch - ECPv6.15.20//NONSGML v1.0//EN
CALSCALE:GREGORIAN
METHOD:PUBLISH
X-ORIGINAL-URL:https://www.aauwlubbock.org
X-WR-CALDESC:Events for AAUW Lubbock Betty Anderson Branch
REFRESH-INTERVAL;VALUE=DURATION:PT1H
X-Robots-Tag:noindex
X-PUBLISHED-TTL:PT1H
BEGIN:VTIMEZONE
TZID:America/Chicago
BEGIN:DAYLIGHT
TZOFFSETFROM:-0600
TZOFFSETTO:-0500
TZNAME:CDT
DTSTART:20240310T080000
END:DAYLIGHT
BEGIN:STANDARD
TZOFFSETFROM:-0500
TZOFFSETTO:-0600
TZNAME:CST
DTSTART:20241103T070000
END:STANDARD
BEGIN:DAYLIGHT
TZOFFSETFROM:-0600
TZOFFSETTO:-0500
TZNAME:CDT
DTSTART:20250309T080000
END:DAYLIGHT
BEGIN:STANDARD
TZOFFSETFROM:-0500
TZOFFSETTO:-0600
TZNAME:CST
DTSTART:20251102T070000
END:STANDARD
BEGIN:DAYLIGHT
TZOFFSETFROM:-0600
TZOFFSETTO:-0500
TZNAME:CDT
DTSTART:20260308T080000
END:DAYLIGHT
BEGIN:STANDARD
TZOFFSETFROM:-0500
TZOFFSETTO:-0600
TZNAME:CST
DTSTART:20261101T070000
END:STANDARD
END:VTIMEZONE
BEGIN:VEVENT
DTSTART;TZID=America/Chicago:20250619T190000
DTEND;TZID=America/Chicago:20250619T210000
DTSTAMP:20260421T172122
CREATED:20250611T194311Z
LAST-MODIFIED:20250611T194659Z
UID:10000015-1750359600-1750366800@www.aauwlubbock.org
SUMMARY:The Mountaintop
DESCRIPTION:This compelling play by Katori Hall reimagines the final night of Dr. Martin Luther King Jr.’s life—the night before his assassination. Set in his room at the Lorraine Motel in Memphis\, the story explores Dr. King’s humanity and inner struggles\, while also touching on themes of civil rights\, racial injustice\, and personal legacy. \nIt’s a moving and timely reflection on his leadership\, challenging us all to consider the difference we can make in the world. \nTickets are available at https://edgetheatrelubbock.org.
URL:https://www.aauwlubbock.org/event/the-mountaintop/
LOCATION:Cactus Theater\, 1812 Buddy Holly Avenue\, Lubbock\, TX\, 79401\, United States
ATTACH;FMTTYPE=image/jpeg:https://www.aauwlubbock.org/wp-content/uploads/Juneteenth-2025-The-Mountaintop-Flyer.jpg
END:VEVENT
END:VCALENDAR