BEGIN:VCALENDAR
VERSION:2.0
PRODID:-//AAUW Lubbock Betty Anderson Branch - ECPv6.15.20//NONSGML v1.0//EN
CALSCALE:GREGORIAN
METHOD:PUBLISH
X-WR-CALNAME:AAUW Lubbock Betty Anderson Branch
X-ORIGINAL-URL:https://www.aauwlubbock.org
X-WR-CALDESC:Events for AAUW Lubbock Betty Anderson Branch
REFRESH-INTERVAL;VALUE=DURATION:PT1H
X-Robots-Tag:noindex
X-PUBLISHED-TTL:PT1H
BEGIN:VTIMEZONE
TZID:America/Chicago
BEGIN:DAYLIGHT
TZOFFSETFROM:-0600
TZOFFSETTO:-0500
TZNAME:CDT
DTSTART:20240310T080000
END:DAYLIGHT
BEGIN:STANDARD
TZOFFSETFROM:-0500
TZOFFSETTO:-0600
TZNAME:CST
DTSTART:20241103T070000
END:STANDARD
BEGIN:DAYLIGHT
TZOFFSETFROM:-0600
TZOFFSETTO:-0500
TZNAME:CDT
DTSTART:20250309T080000
END:DAYLIGHT
BEGIN:STANDARD
TZOFFSETFROM:-0500
TZOFFSETTO:-0600
TZNAME:CST
DTSTART:20251102T070000
END:STANDARD
BEGIN:DAYLIGHT
TZOFFSETFROM:-0600
TZOFFSETTO:-0500
TZNAME:CDT
DTSTART:20260308T080000
END:DAYLIGHT
BEGIN:STANDARD
TZOFFSETFROM:-0500
TZOFFSETTO:-0600
TZNAME:CST
DTSTART:20261101T070000
END:STANDARD
END:VTIMEZONE
BEGIN:VEVENT
DTSTART;TZID=America/Chicago:20251204T140000
DTEND;TZID=America/Chicago:20251204T150000
DTSTAMP:20260422T164257
CREATED:20250815T234528Z
LAST-MODIFIED:20250821T214104Z
UID:10000028-1764856800-1764860400@www.aauwlubbock.org
SUMMARY:AAUW Work Smart: Develop Your Value Statement
DESCRIPTION:[vc_row type=”in_container” full_screen_row_position=”middle” column_margin=”default” column_direction=”default” column_direction_tablet=”default” column_direction_phone=”default” scene_position=”center” text_color=”dark” text_align=”left” row_border_radius=”none” row_border_radius_applies=”bg” overflow=”visible” overlay_strength=”0.3″ gradient_direction=”left_to_right” shape_divider_position=”bottom” bg_image_animation=”none”][vc_column column_padding=”no-extra-padding” column_padding_tablet=”inherit” column_padding_phone=”inherit” column_padding_position=”all” column_element_direction_desktop=”default” column_element_spacing=”default” desktop_text_alignment=”default” tablet_text_alignment=”default” phone_text_alignment=”default” background_color_opacity=”1″ background_hover_color_opacity=”1″ column_backdrop_filter=”none” font_color=”#FFFFFF” column_shadow=”none” column_border_radius=”none” column_link_target=”_self” column_position=”default” gradient_direction=”left_to_right” overlay_strength=”0.3″ width=”1/1″ tablet_width_inherit=”default” animation_type=”default” bg_image_animation=”none” border_type=”simple” column_border_width=”none” column_border_style=”solid” column_padding_type=”default” gradient_type=”default”][vc_column_text css=”” text_direction=”default”]\nAAUW Work Smart: Develop Your Value Statement Deep Dive\nLearn the ins and outs of writing your Value Statement which is the first step in salary negotiation.[/vc_column_text][nectar_btn size=”jumbo” open_new_tab=”true” button_style=”regular” button_color_2=”Accent-Color” icon_family=”none” text=”Register Now” url=”https://my.aauw.org/event-information?id=a0lQr000001RBhxIAG”][/vc_column][/vc_row]
URL:https://www.aauwlubbock.org/event/aauw-work-smart-develop-your-value-statement-deep-dive/
ATTACH;FMTTYPE=image/jpeg:https://www.aauwlubbock.org/wp-content/uploads/women-working-04.jpg
LOCATION:https://www.aauwlubbock.org/event/aauw-work-smart-develop-your-value-statement-deep-dive/
END:VEVENT
BEGIN:VEVENT
DTSTART;TZID=America/Chicago:20251209T113000
DTEND;TZID=America/Chicago:20251209T133000
DTSTAMP:20260422T164257
CREATED:20251203T165725Z
LAST-MODIFIED:20251203T165725Z
UID:10000046-1765279800-1765287000@www.aauwlubbock.org
SUMMARY:December Lunch
DESCRIPTION:[vc_row type=”in_container” full_screen_row_position=”middle” column_margin=”default” column_direction=”default” column_direction_tablet=”default” column_direction_phone=”default” scene_position=”center” text_color=”dark” text_align=”left” row_border_radius=”none” row_border_radius_applies=”bg” row_position_desktop=”default” row_position_tablet=”inherit” row_position_phone=”inherit” overflow=”visible” overlay_strength=”0.3″ gradient_direction=”left_to_right” shape_divider_position=”bottom” bg_image_animation=”none”][vc_column column_padding=”no-extra-padding” column_padding_tablet=”inherit” column_padding_phone=”inherit” column_padding_position=”all” flex_gap_desktop=”10px” column_element_direction_desktop=”default” column_element_spacing=”default” desktop_text_alignment=”default” tablet_text_alignment=”default” phone_text_alignment=”default” background_color_opacity=”1″ background_hover_color_opacity=”1″ column_backdrop_filter=”none” column_shadow=”none” column_border_radius=”none” column_link_target=”_self” column_position=”default” gradient_direction=”left_to_right” overlay_strength=”0.3″ width=”1/6″ tablet_width_inherit=”default” animation_type=”default” bg_image_animation=”none” border_type=”simple” column_border_width=”none” column_border_style=”solid”][/vc_column][vc_column column_padding=”no-extra-padding” column_padding_tablet=”inherit” column_padding_phone=”inherit” column_padding_position=”all” flex_gap_desktop=”10px” column_element_direction_desktop=”default” column_element_spacing=”default” desktop_text_alignment=”default” tablet_text_alignment=”default” phone_text_alignment=”default” background_color_opacity=”1″ background_hover_color_opacity=”1″ column_backdrop_filter=”none” font_color=”#FFFFFF” column_shadow=”none” column_border_radius=”none” column_link_target=”_self” column_position=”default” gradient_direction=”left_to_right” overlay_strength=”0.3″ width=”2/3″ tablet_width_inherit=”default” animation_type=”default” bg_image_animation=”none” border_type=”simple” column_border_width=”none” column_border_style=”solid” column_padding_type=”default” gradient_type=”default”][vc_column_text css=”” text_direction=”default”]\nRSVP before December 5  below\, or call or email Lucy Barrington\, 806-786-8011. \n[/vc_column_text][vc_column_text css=”” text_direction=”default”]\nRSVP\n[/vc_column_text]\n\n                \n                        \n							"*" indicates required fields \n                         \n \n                        CommentsThis field is for validation purposes and should be left unchanged.Name*\n                            \n                            \n                                                    \n                                                    First\n                                                \n                            \n                            \n                                                    \n                                                    Last\n                                                \n                            \n                        Email*\n                            \n                        Number of Guests Quantity*\n					\n					\n						Price:\n						$22.00\n					\n					\n					 Quantity \n				Total\n							\n						Payment Method*\n			\n					\n					Pay at the Door with Cash or Check\n			\n			\n					\n					Pay Now with Credit Card/PayPal/Venmo\n			Payment Type - Choose from Dropdown ListPayPal CheckoutCredit Card\n                                    MasterCardVisaSupported Credit Cards: MasterCard\, Visa\n                                    \n                                    Card Number\n                                 \n                                            \n                                                \n                                                Expiration Date\n                                            \n                                                \n                                                 \n                                                Security Code\n                                             \n                                        \n                                            \n                                            Cardholder Name\n                                         If you're using a credit card\, please click the Submit button once. Sometimes this takes a minute. \n          \n            \n            \n            \n            \n            \n            \n            \n            \n            \n            \n            \n            \n            \n        \n                        \n                        \n[/vc_column][vc_column column_padding=”no-extra-padding” column_padding_tablet=”inherit” column_padding_phone=”inherit” column_padding_position=”all” flex_gap_desktop=”10px” column_element_direction_desktop=”default” column_element_spacing=”default” desktop_text_alignment=”default” tablet_text_alignment=”default” phone_text_alignment=”default” background_color_opacity=”1″ background_hover_color_opacity=”1″ column_backdrop_filter=”none” column_shadow=”none” column_border_radius=”none” column_link_target=”_self” column_position=”default” gradient_direction=”left_to_right” overlay_strength=”0.3″ width=”1/6″ tablet_width_inherit=”default” animation_type=”default” bg_image_animation=”none” border_type=”simple” column_border_width=”none” column_border_style=”solid”][/vc_column][/vc_row]
URL:https://www.aauwlubbock.org/event/december-lunch/
LOCATION:Lubbock Womens Club\, 2020 Broadway\, Lubbock\, TX\, 79401\, United States
ATTACH;FMTTYPE=image/png:https://www.aauwlubbock.org/wp-content/uploads/december-lunch-2025.png
END:VEVENT
BEGIN:VEVENT
DTSTART;TZID=America/Chicago:20251210T160000
DTEND;TZID=America/Chicago:20251210T170000
DTSTAMP:20260422T164257
CREATED:20250815T234758Z
LAST-MODIFIED:20250815T234758Z
UID:10000029-1765382400-1765386000@www.aauwlubbock.org
SUMMARY:AAUW Start Smart
DESCRIPTION:[vc_row type=”in_container” full_screen_row_position=”middle” column_margin=”default” column_direction=”default” column_direction_tablet=”default” column_direction_phone=”default” scene_position=”center” text_color=”dark” text_align=”left” row_border_radius=”none” row_border_radius_applies=”bg” overflow=”visible” overlay_strength=”0.3″ gradient_direction=”left_to_right” shape_divider_position=”bottom” bg_image_animation=”none”][vc_column column_padding=”no-extra-padding” column_padding_tablet=”inherit” column_padding_phone=”inherit” column_padding_position=”all” column_element_direction_desktop=”default” column_element_spacing=”default” desktop_text_alignment=”default” tablet_text_alignment=”default” phone_text_alignment=”default” background_color_opacity=”1″ background_hover_color_opacity=”1″ column_backdrop_filter=”none” font_color=”#FFFFFF” column_shadow=”none” column_border_radius=”none” column_link_target=”_self” column_position=”default” gradient_direction=”left_to_right” overlay_strength=”0.3″ width=”1/1″ tablet_width_inherit=”default” animation_type=”default” bg_image_animation=”none” border_type=”simple” column_border_width=”none” column_border_style=”solid” column_padding_type=”default” gradient_type=”default”][vc_column_text css=”” text_direction=”default”]\nAAUW Start Smart\nAAUW Start Smart is specifically designed for college women entering the job market\, teaching effective salary negotiation techniques to boost your confidence and negotiation skills.[/vc_column_text][nectar_btn size=”jumbo” open_new_tab=”true” button_style=”regular” button_color_2=”Accent-Color” icon_family=”none” text=”Register Now” url=”https://my.aauw.org/event-information?id=a0lQr000001RBurIAG”][/vc_column][/vc_row]
URL:https://www.aauwlubbock.org/event/aauw-start-smart-3/
ATTACH;FMTTYPE=image/jpeg:https://www.aauwlubbock.org/wp-content/uploads/women-working-05.jpg
LOCATION:https://www.aauwlubbock.org/event/aauw-start-smart-3/
END:VEVENT
BEGIN:VEVENT
DTSTART;TZID=America/Chicago:20251217T160000
DTEND;TZID=America/Chicago:20251217T170000
DTSTAMP:20260422T164257
CREATED:20250815T235014Z
LAST-MODIFIED:20250815T235014Z
UID:10000030-1765987200-1765990800@www.aauwlubbock.org
SUMMARY:AAUW Money Smart: Smart Foundations
DESCRIPTION:[vc_row type=”in_container” full_screen_row_position=”middle” column_margin=”default” column_direction=”default” column_direction_tablet=”default” column_direction_phone=”default” scene_position=”center” text_color=”dark” text_align=”left” row_border_radius=”none” row_border_radius_applies=”bg” overflow=”visible” overlay_strength=”0.3″ gradient_direction=”left_to_right” shape_divider_position=”bottom” bg_image_animation=”none”][vc_column column_padding=”no-extra-padding” column_padding_tablet=”inherit” column_padding_phone=”inherit” column_padding_position=”all” column_element_direction_desktop=”default” column_element_spacing=”default” desktop_text_alignment=”default” tablet_text_alignment=”default” phone_text_alignment=”default” background_color_opacity=”1″ background_hover_color_opacity=”1″ column_backdrop_filter=”none” font_color=”#FFFFFF” column_shadow=”none” column_border_radius=”none” column_link_target=”_self” column_position=”default” gradient_direction=”left_to_right” overlay_strength=”0.3″ width=”1/1″ tablet_width_inherit=”default” animation_type=”default” bg_image_animation=”none” border_type=”simple” column_border_width=”none” column_border_style=”solid” column_padding_type=”default” gradient_type=”default”][vc_column_text css=”” text_direction=”default”]\nAAUW Money Smart: Smart Foundations\nThe AAUW Money Smart program is aimed at providing all women with the personal finance information they need to ensure their own financial security. \nLearn the ins and outs of budgeting and ways to create a money plan that aligns with your personal values.[/vc_column_text][nectar_btn size=”jumbo” open_new_tab=”true” button_style=”regular” button_color_2=”Accent-Color” icon_family=”none” text=”Register Now” url=”https://my.aauw.org/event-information?id=a0lQr000001RC7lIAG”][/vc_column][/vc_row]
URL:https://www.aauwlubbock.org/event/aauw-money-smart-smart-foundations-2/
ATTACH;FMTTYPE=image/jpeg:https://www.aauwlubbock.org/wp-content/uploads/women-working-01.jpg
LOCATION:https://www.aauwlubbock.org/event/aauw-money-smart-smart-foundations-2/
END:VEVENT
END:VCALENDAR