BEGIN:VCALENDAR
VERSION:2.0
PRODID:-//AAUW Lubbock Betty Anderson Branch - ECPv6.15.20//NONSGML v1.0//EN
CALSCALE:GREGORIAN
METHOD:PUBLISH
X-ORIGINAL-URL:https://www.aauwlubbock.org
X-WR-CALDESC:Events for AAUW Lubbock Betty Anderson Branch
REFRESH-INTERVAL;VALUE=DURATION:PT1H
X-Robots-Tag:noindex
X-PUBLISHED-TTL:PT1H
BEGIN:VTIMEZONE
TZID:America/Chicago
BEGIN:DAYLIGHT
TZOFFSETFROM:-0600
TZOFFSETTO:-0500
TZNAME:CDT
DTSTART:20250309T080000
END:DAYLIGHT
BEGIN:STANDARD
TZOFFSETFROM:-0500
TZOFFSETTO:-0600
TZNAME:CST
DTSTART:20251102T070000
END:STANDARD
BEGIN:DAYLIGHT
TZOFFSETFROM:-0600
TZOFFSETTO:-0500
TZNAME:CDT
DTSTART:20260308T080000
END:DAYLIGHT
BEGIN:STANDARD
TZOFFSETFROM:-0500
TZOFFSETTO:-0600
TZNAME:CST
DTSTART:20261101T070000
END:STANDARD
BEGIN:DAYLIGHT
TZOFFSETFROM:-0600
TZOFFSETTO:-0500
TZNAME:CDT
DTSTART:20270314T080000
END:DAYLIGHT
BEGIN:STANDARD
TZOFFSETFROM:-0500
TZOFFSETTO:-0600
TZNAME:CST
DTSTART:20271107T070000
END:STANDARD
END:VTIMEZONE
BEGIN:VEVENT
DTSTART;TZID=America/Chicago:20260115T130000
DTEND;TZID=America/Chicago:20260115T140000
DTSTAMP:20260421T103103
CREATED:20260106T201713Z
LAST-MODIFIED:20260106T201713Z
UID:10000048-1768482000-1768485600@www.aauwlubbock.org
SUMMARY:The Future of Higher Education
DESCRIPTION:[vc_row type=”in_container” full_screen_row_position=”middle” column_margin=”default” column_direction=”default” column_direction_tablet=”default” column_direction_phone=”default” scene_position=”center” text_color=”dark” text_align=”left” row_border_radius=”none” row_border_radius_applies=”bg” row_position_desktop=”default” row_position_tablet=”inherit” row_position_phone=”inherit” overflow=”visible” overlay_strength=”0.3″ gradient_direction=”left_to_right” shape_divider_position=”bottom” bg_image_animation=”none”][vc_column column_padding=”no-extra-padding” column_padding_tablet=”inherit” column_padding_phone=”inherit” column_padding_position=”all” column_element_direction_desktop=”default” column_element_spacing=”default” centered_text=”true” desktop_text_alignment=”default” tablet_text_alignment=”default” phone_text_alignment=”default” background_color_opacity=”1″ background_hover_color_opacity=”1″ column_backdrop_filter=”none” column_shadow=”none” column_border_radius=”none” column_link_target=”_self” column_position=”default” gradient_direction=”left_to_right” overlay_strength=”0.3″ width=”1/1″ tablet_width_inherit=”default” animation_type=”default” bg_image_animation=”none” border_type=”simple” column_border_width=”none” column_border_style=”solid” column_padding_type=”default” content_layout=”default” gradient_type=”default”][vc_column_text css=”” text_direction=”default”]In light of the recent political attacks on higher education\, this important webinar provides space for leaders to discuss the future of higher education. The panel will explore not only the current reality\, but also the long-term impacts and pathways forward. Panelists will provide insights from their own positions and experiences as leaders in higher education.[/vc_column_text][nectar_btn size=”jumbo” open_new_tab=”true” button_style=”regular” button_color_2=”Extra-Color-1″ icon_family=”none” text=”Register Now” url=”https://my.aauw.org/event-information?id=a0lQr000001hS25IAE”][/vc_column][/vc_row]
URL:https://www.aauwlubbock.org/event/the-future-of-higher-education/
LOCATION:Lubbock Womens Club\, 2020 Broadway\, Lubbock\, TX\, 79401\, United States
ATTACH;FMTTYPE=image/jpeg:https://www.aauwlubbock.org/wp-content/uploads/future-of-higher-education.jpg
END:VEVENT
END:VCALENDAR