BEGIN:VCALENDAR
VERSION:2.0
PRODID:-//AAUW Lubbock Betty Anderson Branch - ECPv6.15.20//NONSGML v1.0//EN
CALSCALE:GREGORIAN
METHOD:PUBLISH
X-ORIGINAL-URL:https://www.aauwlubbock.org
X-WR-CALDESC:Events for AAUW Lubbock Betty Anderson Branch
REFRESH-INTERVAL;VALUE=DURATION:PT1H
X-Robots-Tag:noindex
X-PUBLISHED-TTL:PT1H
BEGIN:VTIMEZONE
TZID:America/Chicago
BEGIN:DAYLIGHT
TZOFFSETFROM:-0600
TZOFFSETTO:-0500
TZNAME:CDT
DTSTART:20240310T080000
END:DAYLIGHT
BEGIN:STANDARD
TZOFFSETFROM:-0500
TZOFFSETTO:-0600
TZNAME:CST
DTSTART:20241103T070000
END:STANDARD
BEGIN:DAYLIGHT
TZOFFSETFROM:-0600
TZOFFSETTO:-0500
TZNAME:CDT
DTSTART:20250309T080000
END:DAYLIGHT
BEGIN:STANDARD
TZOFFSETFROM:-0500
TZOFFSETTO:-0600
TZNAME:CST
DTSTART:20251102T070000
END:STANDARD
BEGIN:DAYLIGHT
TZOFFSETFROM:-0600
TZOFFSETTO:-0500
TZNAME:CDT
DTSTART:20260308T080000
END:DAYLIGHT
BEGIN:STANDARD
TZOFFSETFROM:-0500
TZOFFSETTO:-0600
TZNAME:CST
DTSTART:20261101T070000
END:STANDARD
END:VTIMEZONE
BEGIN:VEVENT
DTSTART;TZID=America/Chicago:20251016T190000
DTEND;TZID=America/Chicago:20251016T200000
DTSTAMP:20260423T095731
CREATED:20250927T041532Z
LAST-MODIFIED:20251004T163643Z
UID:10000040-1760641200-1760644800@www.aauwlubbock.org
SUMMARY:Voting: Opportunities and Threats
DESCRIPTION:Experts in the field will discuss the upcoming fall election issues that are of interest to AAUW members and supporters. \nREGISTER NOW
URL:https://www.aauwlubbock.org/event/voting-opportunities-and-threats/
ATTACH;FMTTYPE=image/png:https://www.aauwlubbock.org/wp-content/uploads/aauw-voting-seminar.png
LOCATION:https://www.aauwlubbock.org/event/voting-opportunities-and-threats/
END:VEVENT
END:VCALENDAR